BEGIN:VCALENDAR
VERSION:2.0
METHOD:PUBLISH
X-WR-CALNAME:VFEK |  október 24 2011- október 24 2011
PRODID:-//strange bird labs//Drupal iCal API//EN
BEGIN:VEVENT
DTSTAMP;VALUE=DATE-TIME:20260420T125418Z
DTSTART;VALUE=DATE-TIME:20111004T131600Z
DTEND;VALUE=DATE-TIME:20111031T230000Z
UID:http://portal.vfmk.hu/node/1499
URL;VALUE=URI:http://portal.vfmk.hu/node/1499
SUMMARY:Kocsis Csaba kiállítása
DESCRIPTION:<p class=\\"rtejustify\\">Int&eacute\;zm&eacute\;ny&uuml\;nk <em>Műv&eacute\;szeti Szalon</em>j&aacute\;ban <strong>Kocsis Csaba</strong> fotogr&aacute\;fus <strong>Barbaricum</strong> c&iacute\;mű fotografikai&nbsp\;ki&aacute\;ll&iacute\;t&aacute\;sa november 1-ig tekinthető meg.</p>
END:VEVENT
END:VCALENDAR
